View In:
ArcGIS JavaScript
ArcGIS Online Map Viewer
ArcGIS Earth
ArcMap
ArcGIS Pro
View Footprint In:
ArcGIS Online Map Viewer
Service Description: GWRC Topographic basemap, July 2022. Includes LINZ 250k and 50k raster maps, plus maps derived from LIDAR DEMs, detailed contours from LIDAR data, LINZ vector data and NZTA road centrelines at scales from 1:9027 down to 1:1128.
Map Name: Layers
Legend
All Layers and Tables
Dynamic Legend
Dynamic All Layers
Layers:
Description:
Copyright Text: GWRC, LINZ
Spatial Reference:
2193
(2193)
Single Fused Map Cache: true
Tile Info:
- Height: 256
- Width: 256
- DPI: 96
-
Levels of Detail: 17
-
Level ID: 0
[ Start Tile, End Tile ]
- Resolution: 4891.96981024998
- Scale: 1.8489297737236E7
- Format: MIXED
- Compression Quality: 90.0
- Origin: X: -4020900.0
Y: 1.99981E7
- Spatial Reference: 2193
(2193)
Initial Extent:
XMin: 1697544.7523008725
YMin: 5424977.87511716
XMax: 1899263.4890716793
YMax: 5508798.042757496
Spatial Reference: 2193
(2193)
Full Extent:
XMin: 1726035.4799330588
YMin: 5382073.888869281
XMax: 1887365.4900930775
YMax: 5493397.549016603
Spatial Reference: 2193
(2193)
Units: esriMeters
Supported Image Format Types: PNG32,PNG24,PNG,JPG,DIB,TIFF,EMF,PS,PDF,GIF,SVG,SVGZ,BMP
Document Info:
Title:
Author:
Comments: GWRC Topo basemap, July 2022
Subject: GWRC Topo basemap, July 2022
Category:
Keywords: Wellington,GWRC,Topography
AntialiasingMode: None
TextAntialiasingMode: Force
Supports Dynamic Layers: true
MaxRecordCount: 1000
MaxImageHeight: 4096
MaxImageWidth: 4096
Supported Query Formats: JSON, geoJSON
Supports Query Data Elements:
Min Scale: 2311162.217155
Max Scale: 1128.497176
Supports Datum Transformation: true
Child Resources:
Info
Dynamic Layer
Supported Operations:
Export Map
Identify
QueryDomains
QueryLegends
Find
Return Updates