View In:
ArcGIS JavaScript
ArcGIS Online Map Viewer
ArcGIS Earth
ArcMap
ArcGIS Pro
View Footprint In:
ArcGIS Online Map Viewer
Service Description: Contains LINZ Topo 1:1 Million, Topo250 and Topo50 raster imagery. Below 1:8,000 scale the LINZ topo is replaced by maps based off the 2013 regional LIDAR DTM & CHM, 1m & 5m contours & hillshade, plus selected LINZ vector topo data
Map Name: Topo Basemap
Legend
All Layers and Tables
Dynamic Legend
Dynamic All Layers
Layers:
Description: Topo basemap used for the cached topo basemap layer for EXT
Copyright Text: GWRC, WAGGIS, LINZ, NZAM
Spatial Reference:
2193
(2193)
Single Fused Map Cache: true
Tile Info:
- Height: 256
- Width: 256
- DPI: 96
-
Levels of Detail: 17
-
Level ID: 0
[ Start Tile, End Tile ]
- Resolution: 4891.96981024998
- Scale: 1.8489297737236E7
- Format: MIXED
- Compression Quality: 80.0
- Origin: X: -4020900.0
Y: 1.99981E7
- Spatial Reference: 2193
(2193)
Initial Extent:
XMin: 1794071.4286760392
YMin: 5432278.273050285
XMax: 1800103.1888006327
YMax: 5434858.773166812
Spatial Reference: 2193
(2193)
Full Extent:
XMin: 1729213.6842
YMin: 5379260.105
XMax: 1897636.6749
YMax: 5511530.4663
Spatial Reference: 2193
(2193)
Units: esriMeters
Supported Image Format Types: PNG32,PNG24,PNG,JPG,DIB,TIFF,EMF,PS,PDF,GIF,SVG,SVGZ,BMP
Document Info:
Title: Topo Basemap
Author: J Gibson, raster data data based off MXD by N Page
Comments: Contains LINZ Topo 1:1 Million, Topo250 and Topo50 raster imagery. Below 1:8,000 scale the LINZ topo is replaced by maps based off the 2013 regional LIDAR DTM & CHM, 1m & 5m contours & hillshade, plus selected LINZ vector topo data
Subject: Topo basemap used for the cached topo basemap layer in GWRC web mapping
Category:
Keywords: Topography,Wellington,LINZ,GWRC
AntialiasingMode: None
TextAntialiasingMode: Force
Supports Dynamic Layers: true
MaxRecordCount: 1000
MaxImageHeight: 4096
MaxImageWidth: 4096
Supported Query Formats: JSON, geoJSON
Supports Query Data Elements:
Min Scale: 2311162.217155
Max Scale: 564.25
Supports Datum Transformation: true
Child Resources:
Info
Dynamic Layer
Supported Operations:
Export Map
Identify
QueryDomains
QueryLegends
Find
EstimateExportTilesSize
ExportTiles
Return Updates