View In:
ArcGIS JavaScript
ArcGIS Online Map Viewer
ArcGIS Earth
ArcMap
ArcGIS Pro
View Footprint In:
ArcGIS Online Map Viewer
Service Description: This map service is a duplicate of all the GIS layers within Ngatahi. It's exported daily from Ngatahi through a python script, so should include the latest attribute information for the relevant layers. This is not editable; it is view only. A separate editable Web Feature Service has been created for users to edit data in GIS and for that data to be synced back to Ngatahi.
Map Name: Layers
Legend
All Layers and Tables
Dynamic Legend
Dynamic All Layers
Layers:
Description:
Copyright Text: ICT GIS
Spatial Reference:
102100
(3857)
Single Fused Map Cache: true
Tile Info:
- Height: 256
- Width: 256
- DPI: 96
-
Levels of Detail: 24
-
Level ID: 0
[ Start Tile, End Tile ]
- Resolution: 156543.03392800014
- Scale: 5.91657527591555E8
-
Level ID: 1
[ Start Tile, End Tile ]
- Resolution: 78271.51696399994
- Scale: 2.95828763795777E8
-
Level ID: 2
[ Start Tile, End Tile ]
- Resolution: 39135.75848200009
- Scale: 1.47914381897889E8
-
Level ID: 3
[ Start Tile, End Tile ]
- Resolution: 19567.87924099992
- Scale: 7.3957190948944E7
-
Level ID: 4
[ Start Tile, End Tile ]
- Resolution: 9783.93962049996
- Scale: 3.6978595474472E7
-
Level ID: 5
[ Start Tile, End Tile ]
- Resolution: 4891.96981024998
- Scale: 1.8489297737236E7
- Format: JPEG
- Compression Quality: 75.0
- Origin: X: -2.0037508342787E7
Y: 2.0037508342787E7
- Spatial Reference: 102100
(3857)
Initial Extent:
XMin: 1.94378240426699E7
YMin: -5050579.651844702
XMax: 1.9581372118011065E7
YMax: -4985922.3327440685
Spatial Reference: 102100
(3857)
Full Extent:
XMin: 1.9400525010165732E7
YMin: -5121022.0109211225
XMax: 1.963295539621867E7
YMax: -4958200.443126885
Spatial Reference: 102100
(3857)
Units: esriMeters
Supported Image Format Types: PNG32,PNG24,PNG,JPG,DIB,TIFF,EMF,PS,PDF,GIF,SVG,SVGZ,BMP
Document Info:
Title:
Author:
Comments: This map service is a duplicate of all the GIS layers within Ngatahi. It's exported daily from Ngatahi through a python script, so should include the latest attribute information for the relevant layers. This is not editable; it is view only. A separate editable Web Feature Service has been created for users to edit data in GIS and for that data to be synced back to Ngatahi.
Subject: This map service is a duplicate of all the GIS layers within Ngatahi. The data in it is updated nightly, during week nights.
Category:
Keywords: Ngatahi,Flood Protection,Parks,Public Transport
AntialiasingMode: None
TextAntialiasingMode: Force
Supports Dynamic Layers: true
MaxRecordCount: 1000
MaxImageHeight: 4096
MaxImageWidth: 4096
Supported Query Formats: JSON, geoJSON
Supports Query Data Elements:
Min Scale: 2311162.217155
Max Scale: 2256.994353
Min LOD: 8
Max LOD: 18
Supports Datum Transformation: true
Child Resources:
Info
Dynamic Layer
Supported Operations:
Export Map
Identify
QueryDomains
QueryLegends
Find
Return Updates
Generate KML