View In:
ArcGIS JavaScript
ArcGIS Online Map Viewer
ArcGIS Earth
ArcMap
ArcGIS Pro
View Footprint In:
ArcGIS Online Map Viewer
Service Description: Aerial imagery cached basemap based off imagery from Feb 2017 for GWRC web mapping. Based off GWRC 0.3m pixel RGBI imagery for complete coverage of the GW Region, plus 0.1m "urban" imagery for urban areas, acquired by local TAs. All images captured for the WAGGIS Local Government consortium with the assistance of LINZ.
Map Name: Aerial Basemap
Legend
All Layers and Tables
Dynamic Legend
Dynamic All Layers
Layers:
Description: 2017 Aerial basemap used for the GWRC cached aerial basemap layer.
Copyright Text: GWRC, WAGGIS, LINZ, NZAM
Spatial Reference:
2193
(2193)
Single Fused Map Cache: true
Tile Info:
- Height: 256
- Width: 256
- DPI: 96
-
Levels of Detail: 17
-
Level ID: 0
[ Start Tile, End Tile ]
- Resolution: 4891.96981024998
- Scale: 1.8489297737236E7
- Format: MIXED
- Compression Quality: 90.0
- Origin: X: -4020900.0
Y: 1.99981E7
- Spatial Reference: 2193
(2193)
Initial Extent:
XMin: 1612175.851894415
YMin: 5435537.118275965
XMax: 2037393.9920593845
YMax: 5617453.414279101
Spatial Reference: 2193
(2193)
Full Extent:
XMin: 1723978.4703639967
YMin: 5370811.414212152
XMax: 1925591.3735898032
YMax: 5545965.931187855
Spatial Reference: 2193
(2193)
Units: esriMeters
Supported Image Format Types: PNG32,PNG24,PNG,JPG,DIB,TIFF,EMF,PS,PDF,GIF,SVG,SVGZ,BMP
Document Info:
Title: Aerial Basemap
Author: J Gibson, raster data data based off MXD by N Page
Comments: Aerial imagery cached basemap based off imagery from Feb 2017 for GWRC web mapping. Based off GWRC 0.3m pixel RGBI imagery for complete coverage of the GW Region, plus 0.1m "urban" imagery for urban areas, acquired by local TAs. All images captured for the WAGGIS Local Government consortium with the assistance of LINZ.
Subject: Aerial imagery cached basemap based off imagery from Feb 2017 for GWRC web mapping.
Category:
Keywords: Aerials,Wellington,LINZ,GWRC
AntialiasingMode: None
TextAntialiasingMode: Force
Supports Dynamic Layers: true
MaxRecordCount: 1000
MaxImageHeight: 4096
MaxImageWidth: 4096
Supported Query Formats: JSON, geoJSON
Supports Query Data Elements:
Min Scale: 2311162.217155
Max Scale: 564.25
Supports Datum Transformation: true
Child Resources:
Info
Dynamic Layer
Supported Operations:
Export Map
Identify
QueryDomains
QueryLegends
Find
EstimateExportTilesSize
ExportTiles
Return Updates